BEGIN:VCALENDAR
VERSION:2.0
PRODID:-//Hubert Massey Murals - ECPv6.15.20//NONSGML v1.0//EN
CALSCALE:GREGORIAN
METHOD:PUBLISH
X-ORIGINAL-URL:https://hubertmasseymurals.net
X-WR-CALDESC:Events for Hubert Massey Murals
REFRESH-INTERVAL;VALUE=DURATION:PT1H
X-Robots-Tag:noindex
X-PUBLISHED-TTL:PT1H
BEGIN:VTIMEZONE
TZID:America/New_York
BEGIN:DAYLIGHT
TZOFFSETFROM:-0500
TZOFFSETTO:-0400
TZNAME:EDT
DTSTART:20170312T070000
END:DAYLIGHT
BEGIN:STANDARD
TZOFFSETFROM:-0400
TZOFFSETTO:-0500
TZNAME:EST
DTSTART:20171105T060000
END:STANDARD
BEGIN:DAYLIGHT
TZOFFSETFROM:-0500
TZOFFSETTO:-0400
TZNAME:EDT
DTSTART:20180311T070000
END:DAYLIGHT
BEGIN:STANDARD
TZOFFSETFROM:-0400
TZOFFSETTO:-0500
TZNAME:EST
DTSTART:20181104T060000
END:STANDARD
BEGIN:DAYLIGHT
TZOFFSETFROM:-0500
TZOFFSETTO:-0400
TZNAME:EDT
DTSTART:20190310T070000
END:DAYLIGHT
BEGIN:STANDARD
TZOFFSETFROM:-0400
TZOFFSETTO:-0500
TZNAME:EST
DTSTART:20191103T060000
END:STANDARD
END:VTIMEZONE
BEGIN:VEVENT
DTSTART;TZID=America/New_York:20180923T140000
DTEND;TZID=America/New_York:20180923T170000
DTSTAMP:20260425T141030
CREATED:20180917T132218Z
LAST-MODIFIED:20180917T132454Z
UID:1098-1537711200-1537722000@hubertmasseymurals.net
SUMMARY:Cobo Art Invitation
DESCRIPTION:Please Join Us! Free and Open to the Public \nCome Celebrate the Hubert Massey Fresco \nDetroit – Crossroad of Innovation\nSunday\, September 23\, 2018 from 2 – 5pm\nCobo Center\, Level 2 at the fresco\n1 Washington Boulevard\, Detroit\, MI 48226 \n\nFamily Fun – Activities Table\nScavenger Hunt – 12 and under\nArtist Hubert Massey will speak at 2:30 pm\n\nFresco Demonstrations\nMusic and Self-Guided Art Tours\n\nDiscounted Roof Top Parking – $10\nPark by sign “Elevator 3” at SE corner of roof\nFood and Beverages available for purchase \nFor more information please contact – mdevine@drcfa.org \n  \n 
URL:https://hubertmasseymurals.net/event/cobo-art-invitation/
LOCATION:Cobo hall\, 1 Washington Boulevard\, Detroit\, MI\, MI\, 48226
ORGANIZER;CN="":MAILTO:mdevine@drcfa.org
END:VEVENT
BEGIN:VEVENT
DTSTART;VALUE=DATE:20180721
DTEND;VALUE=DATE:20180722
DTSTAMP:20260425T141030
CREATED:20180503T145552Z
LAST-MODIFIED:20180503T145552Z
UID:828-1532131200-1532217599@hubertmasseymurals.net
SUMMARY:Public Art viewing
DESCRIPTION:Dancing
URL:https://hubertmasseymurals.net/event/public-art-viewing/
LOCATION:CCS\, Detroit
END:VEVENT
END:VCALENDAR